BEGIN:VCALENDAR
VERSION:2.0
PRODID:-//North West Gymnastics Association - ECPv6.15.20//NONSGML v1.0//EN
CALSCALE:GREGORIAN
METHOD:PUBLISH
X-ORIGINAL-URL:https://nwga.org.uk
X-WR-CALDESC:Events for North West Gymnastics Association
REFRESH-INTERVAL;VALUE=DURATION:PT1H
X-Robots-Tag:noindex
X-PUBLISHED-TTL:PT1H
BEGIN:VTIMEZONE
TZID:Europe/London
BEGIN:DAYLIGHT
TZOFFSETFROM:+0000
TZOFFSETTO:+0100
TZNAME:BST
DTSTART:20220327T010000
END:DAYLIGHT
BEGIN:STANDARD
TZOFFSETFROM:+0100
TZOFFSETTO:+0000
TZNAME:GMT
DTSTART:20221030T010000
END:STANDARD
BEGIN:DAYLIGHT
TZOFFSETFROM:+0000
TZOFFSETTO:+0100
TZNAME:BST
DTSTART:20230326T010000
END:DAYLIGHT
BEGIN:STANDARD
TZOFFSETFROM:+0100
TZOFFSETTO:+0000
TZNAME:GMT
DTSTART:20231029T010000
END:STANDARD
BEGIN:DAYLIGHT
TZOFFSETFROM:+0000
TZOFFSETTO:+0100
TZNAME:BST
DTSTART:20240331T010000
END:DAYLIGHT
BEGIN:STANDARD
TZOFFSETFROM:+0100
TZOFFSETTO:+0000
TZNAME:GMT
DTSTART:20241027T010000
END:STANDARD
END:VTIMEZONE
BEGIN:VEVENT
DTSTART;TZID=Europe/London:20231119T000000
DTEND;TZID=Europe/London:20231119T235959
DTSTAMP:20260421T073601
CREATED:20230920T161326Z
LAST-MODIFIED:20231113T114625Z
UID:10000126-1700352000-1700438399@nwga.org.uk
SUMMARY:North West 2 Piece Championships
DESCRIPTION:The primary aim of the 2-piece code will be to provide a developmental pathway into a solid under 12 British floor and vault standard. CLOSING DATE – SUNDAY 22nd October 2023 \n\n\n\n\n\n\n\n\n\n\n\n    \n        \n            \n            \n                North West 2 Piece Championships\n                 1 file(s)  24.12 KB\n            \n            \n                Download\n            \n        \n    \n\n\n\n\n\n\n\n\n    \n        \n            \n            \n                North West 2 Piece Championships | Entry Form\n                 1 file(s)  14.77 KB\n            \n            \n                Download\n            \n        \n    \n\n\n\n\n\n\n\n\n    \n        \n            \n            \n                North West 2 Piece Championships | Event Programme\n                 1 file(s)  460.08 KB\n            \n            \n                Download
URL:https://nwga.org.uk/event/north-west-2-piece-championships-4/
LOCATION:Cheshire Gymnastics\, Moss Ln\, Northwich\, CW8 4BG\, United Kingdom
CATEGORIES:Men's Artistic
END:VEVENT
END:VCALENDAR