BEGIN:VCALENDAR
VERSION:2.0
PRODID:-//North West Gymnastics Association - ECPv6.15.20//NONSGML v1.0//EN
CALSCALE:GREGORIAN
METHOD:PUBLISH
X-WR-CALNAME:North West Gymnastics Association
X-ORIGINAL-URL:https://nwga.org.uk
X-WR-CALDESC:Events for North West Gymnastics Association
REFRESH-INTERVAL;VALUE=DURATION:PT1H
X-Robots-Tag:noindex
X-PUBLISHED-TTL:PT1H
BEGIN:VTIMEZONE
TZID:Europe/London
BEGIN:DAYLIGHT
TZOFFSETFROM:+0000
TZOFFSETTO:+0100
TZNAME:BST
DTSTART:20220327T010000
END:DAYLIGHT
BEGIN:STANDARD
TZOFFSETFROM:+0100
TZOFFSETTO:+0000
TZNAME:GMT
DTSTART:20221030T010000
END:STANDARD
BEGIN:DAYLIGHT
TZOFFSETFROM:+0000
TZOFFSETTO:+0100
TZNAME:BST
DTSTART:20230326T010000
END:DAYLIGHT
BEGIN:STANDARD
TZOFFSETFROM:+0100
TZOFFSETTO:+0000
TZNAME:GMT
DTSTART:20231029T010000
END:STANDARD
BEGIN:DAYLIGHT
TZOFFSETFROM:+0000
TZOFFSETTO:+0100
TZNAME:BST
DTSTART:20240331T010000
END:DAYLIGHT
BEGIN:STANDARD
TZOFFSETFROM:+0100
TZOFFSETTO:+0000
TZNAME:GMT
DTSTART:20241027T010000
END:STANDARD
END:VTIMEZONE
BEGIN:VEVENT
DTSTART;TZID=Europe/London:20230910T000000
DTEND;TZID=Europe/London:20230910T235959
DTSTAMP:20260421T201221
CREATED:20230704T080614Z
LAST-MODIFIED:20230904T081557Z
UID:10000124-1694304000-1694390399@nwga.org.uk
SUMMARY:North West Voluntary Cup
DESCRIPTION:North West Voluntary Cup Rules\n                 1 file(s)  15.08 KB\n            \n            \n                Download\n            \n        \n    \n\n\n\n\n\n\n\n\n    \n        \n            \n            \n                North West Voluntary Cup 2023 | Entry Form\n                 1 file(s)  12.95 KB\n            \n            \n                Download\n            \n        \n    \n\n\n\n\n\n\n\n\n    \n        \n            \n            \n                NWGA Club Elite Grades Programme 2023\n                 1 file(s)  256.17 KB\n            \n            \n                Download
URL:https://nwga.org.uk/event/north-west-voluntary-cup-2/
LOCATION:Robin Park Leisure Centre and Arena\, Loire Drive\, Wigan\, WN5 0UH\, United Kingdom
CATEGORIES:Men's Artistic
GEO:53.545166;-2.6540469
X-APPLE-STRUCTURED-LOCATION;VALUE=URI;X-ADDRESS=Robin Park Leisure Centre and Arena Loire Drive Wigan WN5 0UH United Kingdom;X-APPLE-RADIUS=500;X-TITLE=Loire Drive:geo:-2.6540469,53.545166
END:VEVENT
BEGIN:VEVENT
DTSTART;TZID=Europe/London:20230910T000000
DTEND;TZID=Europe/London:20230910T235959
DTSTAMP:20260421T201221
CREATED:20230704T080843Z
LAST-MODIFIED:20230920T162844Z
UID:10000125-1694304000-1694390399@nwga.org.uk
SUMMARY:North West Club & Elite Grades Team Selection& North West Level 0 Championships
DESCRIPTION:North West Club & Elite Grades Squad Selection Trial 2023 | Entry Form\n                 1 file(s)  16.50 KB\n            \n            \n                Download\n            \n        \n    \n\n\n\n\n\n\n\n\n    \n        \n            \n            \n                North West Club & Elite Grades Team Selection & North West Level 0 Championships\n                 1 file(s)  18.89 KB\n            \n            \n                Download\n            \n        \n    \n\n\n\n\n\n\n\n\n    \n        \n            \n            \n                NWGA Club Elite Grades Programme 2023\n                 1 file(s)  256.17 KB\n            \n            \n                Download\n            \n        \n    \n\n\n\n\n\n\n\n\n    \n        \n            \n            \n                Results – Session Morning Session – Elite Level 2\n                 1 file(s)  93.31 KB\n            \n            \n                Download\n            \n        \n    \n\n\n\n\n\n\n\n\n    \n        \n            \n            \n                Results – Session Morning Session – Elite Level 1\n                 1 file(s)  87.80 KB\n            \n            \n                Download\n            \n        \n    \n\n\n\n\n\n\n\n\n    \n        \n            \n            \n                Results – Session Morning Session – Elite Level 0\n                 1 file(s)  87.42 KB\n            \n            \n                Download\n            \n        \n    \n\n\n\n\n\n\n\n\n    \n        \n            \n            \n                Results – Session Morning Session – Club Level 4\n                 1 file(s)  88.28 KB\n            \n            \n                Download\n            \n        \n    \n\n\n\n\n\n\n\n\n    \n        \n            \n            \n                Results – Session Morning Session – Club Level 3\n                 1 file(s)  91.36 KB\n            \n            \n                Download\n            \n        \n    \n\n\n\n\n\n\n\n\n    \n        \n            \n            \n                Results – Session Morning Session – Club Level 2\n                 1 file(s)  91.29 KB\n            \n            \n                Download\n            \n        \n    \n\n\n\n\n\n\n\n\n    \n        \n            \n            \n                Results – Session Morning Session – Club Level 1\n                 1 file(s)  92.28 KB\n            \n            \n                Download\n            \n        \n    \n\n\n\n\n\n\n\n\n    \n        \n            \n            \n                Results – Session Morning Session – Club Level 0\n                 1 file(s)  90.13 KB\n            \n            \n                Download\n            \n        \n    \n\n\n\n\n\n\n\n\n    \n        \n            \n            \n                Results – Session Afternoon Session – Under 18\n                 1 file(s)  84.91 KB\n            \n            \n                Download\n            \n        \n    \n\n\n\n\n\n\n\n\n    \n        \n            \n            \n                Results – Session Afternoon Session – Under 16\n                 1 file(s)  90.89 KB\n            \n            \n                Download\n            \n        \n    \n\n\n\n\n\n\n\n\n    \n        \n            \n            \n                Results – Session Afternoon Session – Open\n                 1 file(s)  82.96 KB\n            \n            \n                Download\n            \n        \n    \n\n\n\n\n\n\n\n\n    \n        \n            \n            \n                Results – Session Afternoon Session – Elite Level 6\n                 1 file(s)  89.36 KB\n            \n            \n                Download\n            \n        \n    \n\n\n\n\n\n\n\n\n    \n        \n            \n            \n                Results – Session Afternoon Session – Elite Level 4\n                 1 file(s)  88.67 KB\n            \n            \n                Download\n            \n        \n    \n\n\n\n\n\n\n\n\n    \n        \n            \n            \n                Results – Session Afternoon Session – Elite Level 3\n                 1 file(s)  91.67 KB\n            \n            \n                Download\n            \n        \n    \n\n\n\n\n\n\n\n\n    \n        \n            \n            \n                Results – Session Afternoon Session – Club Level 6\n                 1 file(s)  83.53 KB\n            \n            \n                Download\n            \n        \n    \n\n\n\n\n\n\n\n\n    \n        \n            \n            \n                Results – Session Afternoon Session – Club Level 5\n                 1 file(s)  87.52 KB\n            \n            \n                Download\n            \n        \n    \n\n\n\n\n\n\n\n\n    \n        \n            \n            \n                Sept 2023 North West Region Grades\n                 1 file(s)  55.76 KB\n            \n            \n                Download
URL:https://nwga.org.uk/event/north-west-club-elite-grades-team-selection-north-west-level-0-championships/
LOCATION:Robin Park Leisure Centre and Arena\, Loire Drive\, Wigan\, WN5 0UH\, United Kingdom
CATEGORIES:Men's Artistic
GEO:53.545166;-2.6540469
X-APPLE-STRUCTURED-LOCATION;VALUE=URI;X-ADDRESS=Robin Park Leisure Centre and Arena Loire Drive Wigan WN5 0UH United Kingdom;X-APPLE-RADIUS=500;X-TITLE=Loire Drive:geo:-2.6540469,53.545166
END:VEVENT
END:VCALENDAR