BEGIN:VCALENDAR
VERSION:2.0
PRODID:-//North West Gymnastics Association - ECPv6.15.20//NONSGML v1.0//EN
CALSCALE:GREGORIAN
METHOD:PUBLISH
X-WR-CALNAME:North West Gymnastics Association
X-ORIGINAL-URL:https://nwga.org.uk
X-WR-CALDESC:Events for North West Gymnastics Association
REFRESH-INTERVAL;VALUE=DURATION:PT1H
X-Robots-Tag:noindex
X-PUBLISHED-TTL:PT1H
BEGIN:VTIMEZONE
TZID:Europe/London
BEGIN:DAYLIGHT
TZOFFSETFROM:+0000
TZOFFSETTO:+0100
TZNAME:BST
DTSTART:20200329T010000
END:DAYLIGHT
BEGIN:STANDARD
TZOFFSETFROM:+0100
TZOFFSETTO:+0000
TZNAME:GMT
DTSTART:20201025T010000
END:STANDARD
BEGIN:DAYLIGHT
TZOFFSETFROM:+0000
TZOFFSETTO:+0100
TZNAME:BST
DTSTART:20210328T010000
END:DAYLIGHT
BEGIN:STANDARD
TZOFFSETFROM:+0100
TZOFFSETTO:+0000
TZNAME:GMT
DTSTART:20211031T010000
END:STANDARD
BEGIN:DAYLIGHT
TZOFFSETFROM:+0000
TZOFFSETTO:+0100
TZNAME:BST
DTSTART:20220327T010000
END:DAYLIGHT
BEGIN:STANDARD
TZOFFSETFROM:+0100
TZOFFSETTO:+0000
TZNAME:GMT
DTSTART:20221030T010000
END:STANDARD
BEGIN:DAYLIGHT
TZOFFSETFROM:+0000
TZOFFSETTO:+0100
TZNAME:BST
DTSTART:20230326T010000
END:DAYLIGHT
BEGIN:STANDARD
TZOFFSETFROM:+0100
TZOFFSETTO:+0000
TZNAME:GMT
DTSTART:20231029T010000
END:STANDARD
BEGIN:DAYLIGHT
TZOFFSETFROM:+0000
TZOFFSETTO:+0100
TZNAME:BST
DTSTART:20240331T010000
END:DAYLIGHT
BEGIN:STANDARD
TZOFFSETFROM:+0100
TZOFFSETTO:+0000
TZNAME:GMT
DTSTART:20241027T010000
END:STANDARD
BEGIN:DAYLIGHT
TZOFFSETFROM:+0000
TZOFFSETTO:+0100
TZNAME:BST
DTSTART:20250330T010000
END:DAYLIGHT
BEGIN:STANDARD
TZOFFSETFROM:+0100
TZOFFSETTO:+0000
TZNAME:GMT
DTSTART:20251026T010000
END:STANDARD
BEGIN:DAYLIGHT
TZOFFSETFROM:+0000
TZOFFSETTO:+0100
TZNAME:BST
DTSTART:20260329T010000
END:DAYLIGHT
BEGIN:STANDARD
TZOFFSETFROM:+0100
TZOFFSETTO:+0000
TZNAME:GMT
DTSTART:20261025T010000
END:STANDARD
END:VTIMEZONE
BEGIN:VEVENT
DTSTART;TZID=Europe/London:20251123T000000
DTEND;TZID=Europe/London:20251123T235959
DTSTAMP:20260422T172344
CREATED:20250625T095831Z
LAST-MODIFIED:20250625T095832Z
UID:10000159-1763856000-1763942399@nwga.org.uk
SUMMARY:North West 2 Piece Championships
DESCRIPTION:The primary aim of the 2-piece code will be to provide a developmental pathway into a solid under 12 British floor and vault standard \n\n\n\n\n\n\n\n\n\n\n\n\n\n\n\n\n\n    \n        \n            \n            \n                ENTRY-FORM-2-piece-Nov-2025\n                 1 file(s)  14.02 KB\n            \n            \n                Download\n            \n        \n    \n\n\n\n\n\n\n\n\n    \n        \n            \n            \n                NW-2-Piece-Champs-Nov-2025\n                 1 file(s)  30.31 KB\n            \n            \n                Download
URL:https://nwga.org.uk/event/north-west-2-piece-championships/
LOCATION:Cheshire Gymnastics\, Moss Ln\, Northwich\, CW8 4BG\, United Kingdom
CATEGORIES:Men's Artistic
END:VEVENT
BEGIN:VEVENT
DTSTART;TZID=Europe/London:20250406T080000
DTEND;TZID=Europe/London:20250406T170000
DTSTAMP:20260422T172344
CREATED:20250218T094503Z
LAST-MODIFIED:20250408T155338Z
UID:10000158-1743926400-1743958800@nwga.org.uk
SUMMARY:North West U12 Open
DESCRIPTION:ENTRY-FORM-U12-Open-2025\n                 1 file(s)  12.09 KB\n            \n            \n                Download\n            \n        \n    \n\n\n\n\n\n\n\n\n    \n        \n            \n            \n                NW-U12-Open-Info-2025\n                 1 file(s)  18.84 KB\n            \n            \n                Download\n            \n        \n    \n\n\n\n\n\n\n\n\n    \n        \n            \n            \n                BG-Codes\n                 1 file(s)  166.76 KB\n            \n            \n                Download\n            \n        \n    \n\n\n\n\n\n\n\n\n    \n        \n            \n            \n                34450-North-West-Challenge-U12-Open-2025-PROOF-3\n                 1 file(s)  253.17 KB\n            \n            \n                Download\n            \n        \n    \n\n\n\n\n\n\n\n\n    \n        \n            \n            \n                Results-–-Challenge-Open\n                 1 file(s)  92.74 KB\n            \n            \n                Download\n            \n        \n    \n\n\n\n\n\n\n\n\n    \n        \n            \n            \n                Results-–-NW-Under-12-Open\n                 1 file(s)  87.99 KB\n            \n            \n                Download
URL:https://nwga.org.uk/event/north-west-u12-open/
LOCATION:Cheshire Gymnastics\, Moss Ln\, Northwich\, CW8 4BG\, United Kingdom
CATEGORIES:Men's Artistic
END:VEVENT
BEGIN:VEVENT
DTSTART;TZID=Europe/London:20250406T000000
DTEND;TZID=Europe/London:20250406T235959
DTSTAMP:20260422T172344
CREATED:20250218T093654Z
LAST-MODIFIED:20250408T155306Z
UID:10000157-1743897600-1743983999@nwga.org.uk
SUMMARY:O6 / U8's PV Challenge
DESCRIPTION:PV-Challenge-Rules-2025\n                 1 file(s)  60.02 KB\n            \n            \n                Download\n            \n        \n    \n\n\n\n\n\n\n\n\n    \n        \n            \n            \n                ENTRY-FORM-CHALLENGE-2025\n                 1 file(s)  12.81 KB\n            \n            \n                Download\n            \n        \n    \n\n\n\n\n\n\n\n\n    \n        \n            \n            \n                BG-Codes\n                 1 file(s)  166.76 KB\n            \n            \n                Download\n            \n        \n    \n\n\n\n\n\n\n\n\n    \n        \n            \n            \n                34450-North-West-Challenge-U12-Open-2025-PROOF-3\n                 1 file(s)  253.17 KB\n            \n            \n                Download\n            \n        \n    \n\n\n\n\n\n\n\n\n    \n        \n            \n            \n                Results-–-Challenge-U12\n                 1 file(s)  90.22 KB\n            \n            \n                Download\n            \n        \n    \n\n\n\n\n\n\n\n\n    \n        \n            \n            \n                Results-–-Challenge-U10\n                 1 file(s)  95.51 KB\n            \n            \n                Download\n            \n        \n    \n\n\n\n\n\n\n\n\n    \n        \n            \n            \n                Results-–-Challenge-U9\n                 1 file(s)  96.21 KB\n            \n            \n                Download\n            \n        \n    \n\n\n\n\n\n\n\n\n    \n        \n            \n            \n                Results-–-Challenge-U8\n                 1 file(s)  97.71 KB\n            \n            \n                Download
URL:https://nwga.org.uk/event/o6-u8s-pv-challenge/
LOCATION:Cheshire Gymnastics\, Moss Ln\, Northwich\, CW8 4BG\, United Kingdom
CATEGORIES:Men's Artistic
END:VEVENT
BEGIN:VEVENT
DTSTART;TZID=Europe/London:20241124T000000
DTEND;TZID=Europe/London:20241124T235959
DTSTAMP:20260422T172344
CREATED:20240926T132211Z
LAST-MODIFIED:20241120T103843Z
UID:10000156-1732406400-1732492799@nwga.org.uk
SUMMARY:North West 2 Piece Championships
DESCRIPTION:NW-2-Piece-Champs-Nov-2024_withLinks\n                 1 file(s)  29.35 KB\n            \n            \n                Download\n            \n        \n    \n\n\n\n\n\n\n\n\n    \n        \n            \n            \n                November-2-piece-2024-ENTRY-FORM\n                 1 file(s)  15.20 KB\n            \n            \n                Download
URL:https://nwga.org.uk/event/north-west-2-piece-championships-6/
LOCATION:Cheshire Gymnastics\, Moss Ln\, Northwich\, CW8 4BG\, United Kingdom
END:VEVENT
BEGIN:VEVENT
DTSTART;TZID=Europe/London:20231119T000000
DTEND;TZID=Europe/London:20231119T235959
DTSTAMP:20260422T172344
CREATED:20230920T161326Z
LAST-MODIFIED:20231113T114625Z
UID:10000126-1700352000-1700438399@nwga.org.uk
SUMMARY:North West 2 Piece Championships
DESCRIPTION:The primary aim of the 2-piece code will be to provide a developmental pathway into a solid under 12 British floor and vault standard. CLOSING DATE – SUNDAY 22nd October 2023 \n\n\n\n\n\n\n\n\n\n\n\n    \n        \n            \n            \n                North West 2 Piece Championships\n                 1 file(s)  24.12 KB\n            \n            \n                Download\n            \n        \n    \n\n\n\n\n\n\n\n\n    \n        \n            \n            \n                North West 2 Piece Championships | Entry Form\n                 1 file(s)  14.77 KB\n            \n            \n                Download\n            \n        \n    \n\n\n\n\n\n\n\n\n    \n        \n            \n            \n                North West 2 Piece Championships | Event Programme\n                 1 file(s)  460.08 KB\n            \n            \n                Download
URL:https://nwga.org.uk/event/north-west-2-piece-championships-4/
LOCATION:Cheshire Gymnastics\, Moss Ln\, Northwich\, CW8 4BG\, United Kingdom
CATEGORIES:Men's Artistic
END:VEVENT
BEGIN:VEVENT
DTSTART;TZID=Europe/London:20230702T000000
DTEND;TZID=Europe/London:20230702T235959
DTSTAMP:20260422T172344
CREATED:20230502T081719Z
LAST-MODIFIED:20230627T080800Z
UID:10000123-1688256000-1688342399@nwga.org.uk
SUMMARY:North West Regional Assessment Plan
DESCRIPTION:Under 8 -Under 14 \n\n\n\n\n\n\n\n\n\n\n\n\n\n\n\n    \n        \n            \n            \n                North West Regional Assessment Plan - July 2023\n                 1 file(s)  28.44 KB\n            \n            \n                Download\n            \n        \n    \n\n\n\n\n\n\n\n\n    \n        \n            \n            \n                North West Regional Assessment Plan Entry Form\n                 1 file(s)  13.30 KB\n            \n            \n                Download\n            \n        \n    \n\n\n\n\n\n\n\n\n    \n        \n            \n            \n                Mens Artistic 2 Piece Championship - June 2023\n                 1 file(s)  585.76 KB\n            \n            \n                Download
URL:https://nwga.org.uk/event/north-west-regional-assessment-plan/
LOCATION:Cheshire Gymnastics\, Moss Ln\, Northwich\, CW8 4BG\, United Kingdom
CATEGORIES:Men's Artistic
END:VEVENT
BEGIN:VEVENT
DTSTART;TZID=Europe/London:20230702T000000
DTEND;TZID=Europe/London:20230702T235959
DTSTAMP:20260422T172344
CREATED:20230502T081352Z
LAST-MODIFIED:20230627T080850Z
UID:10000122-1688256000-1688342399@nwga.org.uk
SUMMARY:North West 2 Piece Championships
DESCRIPTION:The primary aim of the 2-piece code will be to provide a developmental pathway into a solid under 12 British floor and vault standard. CLOSING DATE – SUNDAY 4th June 2023 \n\n\n\n\n\n\n\n\n\n\n\n\n\n\n\n    \n        \n            \n            \n                North West 2 Piece Championships – Cheshire Gymnastics Club Sunday 2nd July 2023\n                 1 file(s)  23.79 KB\n            \n            \n                Download\n            \n        \n    \n\n\n\n\n\n\n\n\n    \n        \n            \n            \n                North West 2 Piece Championships July 2023 - Entry Form\n                 1 file(s)  14.77 KB\n            \n            \n                Download\n            \n        \n    \n\n\n\n\n\n\n\n\n    \n        \n            \n            \n                Mens Artistic 2 Piece Championship - June 2023\n                 1 file(s)  585.76 KB\n            \n            \n                Download
URL:https://nwga.org.uk/event/north-west-2-piece-championships-3/
LOCATION:Cheshire Gymnastics\, Moss Ln\, Northwich\, CW8 4BG\, United Kingdom
CATEGORIES:Men's Artistic
END:VEVENT
BEGIN:VEVENT
DTSTART;TZID=Europe/London:20211023T000000
DTEND;TZID=Europe/London:20211024T235959
DTSTAMP:20260422T172344
CREATED:20210930T081640Z
LAST-MODIFIED:20210930T082534Z
UID:10000107-1634947200-1635119999@nwga.org.uk
SUMMARY:NW Regional Levels 6 and 5
DESCRIPTION:
URL:https://nwga.org.uk/event/nw-regional-levels-6-and-5/
LOCATION:Cheshire Gymnastics\, Moss Ln\, Northwich\, CW8 4BG\, United Kingdom
CATEGORIES:Women's Artistic
END:VEVENT
END:VCALENDAR