BEGIN:VCALENDAR
VERSION:2.0
PRODID:-//North West Gymnastics Association - ECPv6.15.20//NONSGML v1.0//EN
CALSCALE:GREGORIAN
METHOD:PUBLISH
X-WR-CALNAME:North West Gymnastics Association
X-ORIGINAL-URL:https://nwga.org.uk
X-WR-CALDESC:Events for North West Gymnastics Association
REFRESH-INTERVAL;VALUE=DURATION:PT1H
X-Robots-Tag:noindex
X-PUBLISHED-TTL:PT1H
BEGIN:VTIMEZONE
TZID:Europe/London
BEGIN:DAYLIGHT
TZOFFSETFROM:+0000
TZOFFSETTO:+0100
TZNAME:BST
DTSTART:20200329T010000
END:DAYLIGHT
BEGIN:STANDARD
TZOFFSETFROM:+0100
TZOFFSETTO:+0000
TZNAME:GMT
DTSTART:20201025T010000
END:STANDARD
BEGIN:DAYLIGHT
TZOFFSETFROM:+0000
TZOFFSETTO:+0100
TZNAME:BST
DTSTART:20210328T010000
END:DAYLIGHT
BEGIN:STANDARD
TZOFFSETFROM:+0100
TZOFFSETTO:+0000
TZNAME:GMT
DTSTART:20211031T010000
END:STANDARD
BEGIN:DAYLIGHT
TZOFFSETFROM:+0000
TZOFFSETTO:+0100
TZNAME:BST
DTSTART:20220327T010000
END:DAYLIGHT
BEGIN:STANDARD
TZOFFSETFROM:+0100
TZOFFSETTO:+0000
TZNAME:GMT
DTSTART:20221030T010000
END:STANDARD
BEGIN:DAYLIGHT
TZOFFSETFROM:+0000
TZOFFSETTO:+0100
TZNAME:BST
DTSTART:20230326T010000
END:DAYLIGHT
BEGIN:STANDARD
TZOFFSETFROM:+0100
TZOFFSETTO:+0000
TZNAME:GMT
DTSTART:20231029T010000
END:STANDARD
BEGIN:DAYLIGHT
TZOFFSETFROM:+0000
TZOFFSETTO:+0100
TZNAME:BST
DTSTART:20240331T010000
END:DAYLIGHT
BEGIN:STANDARD
TZOFFSETFROM:+0100
TZOFFSETTO:+0000
TZNAME:GMT
DTSTART:20241027T010000
END:STANDARD
END:VTIMEZONE
BEGIN:VEVENT
DTSTART;TZID=Europe/London:20230702T000000
DTEND;TZID=Europe/London:20230702T235959
DTSTAMP:20260424T184228
CREATED:20230502T081352Z
LAST-MODIFIED:20230627T080850Z
UID:10000122-1688256000-1688342399@nwga.org.uk
SUMMARY:North West 2 Piece Championships
DESCRIPTION:The primary aim of the 2-piece code will be to provide a developmental pathway into a solid under 12 British floor and vault standard. CLOSING DATE – SUNDAY 4th June 2023 \n\n\n\n\n\n\n\n\n\n\n\n\n\n\n\n    \n        \n            \n            \n                North West 2 Piece Championships – Cheshire Gymnastics Club Sunday 2nd July 2023\n                 1 file(s)  23.79 KB\n            \n            \n                Download\n            \n        \n    \n\n\n\n\n\n\n\n\n    \n        \n            \n            \n                North West 2 Piece Championships July 2023 - Entry Form\n                 1 file(s)  14.77 KB\n            \n            \n                Download\n            \n        \n    \n\n\n\n\n\n\n\n\n    \n        \n            \n            \n                Mens Artistic 2 Piece Championship - June 2023\n                 1 file(s)  585.76 KB\n            \n            \n                Download
URL:https://nwga.org.uk/event/north-west-2-piece-championships-3/
LOCATION:Cheshire Gymnastics\, Moss Ln\, Northwich\, CW8 4BG\, United Kingdom
CATEGORIES:Men's Artistic
END:VEVENT
BEGIN:VEVENT
DTSTART;TZID=Europe/London:20211023T000000
DTEND;TZID=Europe/London:20211024T235959
DTSTAMP:20260424T184228
CREATED:20210930T081640Z
LAST-MODIFIED:20210930T082534Z
UID:10000107-1634947200-1635119999@nwga.org.uk
SUMMARY:NW Regional Levels 6 and 5
DESCRIPTION:
URL:https://nwga.org.uk/event/nw-regional-levels-6-and-5/
LOCATION:Cheshire Gymnastics\, Moss Ln\, Northwich\, CW8 4BG\, United Kingdom
CATEGORIES:Women's Artistic
END:VEVENT
END:VCALENDAR